BEGIN:VCALENDAR
VERSION:2.0
PRODID:-//sv-bayer.de - ECPv6.15.20//NONSGML v1.0//EN
CALSCALE:GREGORIAN
METHOD:PUBLISH
X-WR-CALNAME:sv-bayer.de
X-ORIGINAL-URL:https://www.sv-bayer.de
X-WR-CALDESC:Veranstaltungen für sv-bayer.de
REFRESH-INTERVAL;VALUE=DURATION:PT1H
X-Robots-Tag:noindex
X-PUBLISHED-TTL:PT1H
BEGIN:VTIMEZONE
TZID:Europe/Berlin
BEGIN:DAYLIGHT
TZOFFSETFROM:+0100
TZOFFSETTO:+0200
TZNAME:CEST
DTSTART:20250330T010000
END:DAYLIGHT
BEGIN:STANDARD
TZOFFSETFROM:+0200
TZOFFSETTO:+0100
TZNAME:CET
DTSTART:20251026T010000
END:STANDARD
BEGIN:DAYLIGHT
TZOFFSETFROM:+0100
TZOFFSETTO:+0200
TZNAME:CEST
DTSTART:20260329T010000
END:DAYLIGHT
BEGIN:STANDARD
TZOFFSETFROM:+0200
TZOFFSETTO:+0100
TZNAME:CET
DTSTART:20261025T010000
END:STANDARD
BEGIN:DAYLIGHT
TZOFFSETFROM:+0100
TZOFFSETTO:+0200
TZNAME:CEST
DTSTART:20270328T010000
END:DAYLIGHT
BEGIN:STANDARD
TZOFFSETFROM:+0200
TZOFFSETTO:+0100
TZNAME:CET
DTSTART:20271031T010000
END:STANDARD
END:VTIMEZONE
BEGIN:VEVENT
DTSTART;TZID=Europe/Berlin:20260425T120000
DTEND;TZID=Europe/Berlin:20260425T153000
DTSTAMP:20260425T013522
CREATED:20240422T095809Z
LAST-MODIFIED:20260324T152626Z
UID:39122-1777118400-1777131000@www.sv-bayer.de
SUMMARY:Stingrays - Düsseldorf
DESCRIPTION:Baseball Herren 2. Bundesliga
URL:https://www.sv-bayer.de/event/stingrays-duesseldorf/
LOCATION:Wuppertal Stingrays Ballpark\, Oberbergische Straße\, Wuppertal\, Nordrhein-Westfalen\, 42285
CATEGORIES:Baseball
ATTACH;FMTTYPE=image/webp:https://www.sv-bayer.de/wp-content/uploads/2024/11/2024-09-28-stingrays-at-goose-necks-05.webp
END:VEVENT
END:VCALENDAR