BEGIN:VCALENDAR
VERSION:2.0
PRODID:-//sv-bayer.de - ECPv6.15.20//NONSGML v1.0//EN
CALSCALE:GREGORIAN
METHOD:PUBLISH
X-WR-CALNAME:sv-bayer.de
X-ORIGINAL-URL:https://www.sv-bayer.de
X-WR-CALDESC:Veranstaltungen für sv-bayer.de
REFRESH-INTERVAL;VALUE=DURATION:PT1H
X-Robots-Tag:noindex
X-PUBLISHED-TTL:PT1H
BEGIN:VTIMEZONE
TZID:Europe/Berlin
BEGIN:DAYLIGHT
TZOFFSETFROM:+0100
TZOFFSETTO:+0200
TZNAME:CEST
DTSTART:20250330T010000
END:DAYLIGHT
BEGIN:STANDARD
TZOFFSETFROM:+0200
TZOFFSETTO:+0100
TZNAME:CET
DTSTART:20251026T010000
END:STANDARD
BEGIN:DAYLIGHT
TZOFFSETFROM:+0100
TZOFFSETTO:+0200
TZNAME:CEST
DTSTART:20260329T010000
END:DAYLIGHT
BEGIN:STANDARD
TZOFFSETFROM:+0200
TZOFFSETTO:+0100
TZNAME:CET
DTSTART:20261025T010000
END:STANDARD
BEGIN:DAYLIGHT
TZOFFSETFROM:+0100
TZOFFSETTO:+0200
TZNAME:CEST
DTSTART:20270328T010000
END:DAYLIGHT
BEGIN:STANDARD
TZOFFSETFROM:+0200
TZOFFSETTO:+0100
TZNAME:CET
DTSTART:20271031T010000
END:STANDARD
END:VTIMEZONE
BEGIN:VEVENT
DTSTART;TZID=Europe/Berlin:20260627T130000
DTEND;TZID=Europe/Berlin:20260627T160000
DTSTAMP:20260419T210258
CREATED:20260330T084336Z
LAST-MODIFIED:20260330T084336Z
UID:45574-1782565200-1782576000@www.sv-bayer.de
SUMMARY:SV Bayer - BW Krefeld 2
DESCRIPTION:1. Herren Niederrheinliga – Sommersaison
URL:https://www.sv-bayer.de/event/bayer-krefeld-2/
LOCATION:Tennisanlage SV Bayer\, Aprather Weg 48\, Wuppertal\, Nordrhein-Westfalen\, 42113
CATEGORIES:Tennis
END:VEVENT
BEGIN:VEVENT
DTSTART;VALUE=DATE:20260628
DTEND;VALUE=DATE:20260629
DTSTAMP:20260419T210258
CREATED:20260325T095828Z
LAST-MODIFIED:20260325T095934Z
UID:45409-1782604800-1782691199@www.sv-bayer.de
SUMMARY:Kinder-Triathlönchen
DESCRIPTION:
URL:https://www.sv-bayer.de/event/kinder-triathloenchen/
LOCATION:Bayer-Sportpark\, Unten Vorm Steeg 5\, Wuppertal\, Nordrhein-Westfalen\, 42329
CATEGORIES:KiJu
ATTACH;FMTTYPE=image/jpeg:https://www.sv-bayer.de/wp-content/uploads/2018/10/DSC09216.jpg
END:VEVENT
BEGIN:VEVENT
DTSTART;TZID=Europe/Berlin:20260704T120000
DTEND;TZID=Europe/Berlin:20260704T153000
DTSTAMP:20260419T210258
CREATED:20260325T084856Z
LAST-MODIFIED:20260325T084940Z
UID:45400-1783166400-1783179000@www.sv-bayer.de
SUMMARY:Stingrays - Bonn 2
DESCRIPTION:Baseball Herren 2. Bundesliga
URL:https://www.sv-bayer.de/event/stingrays-bonn-2/
LOCATION:Wuppertal Stingrays Ballpark\, Oberbergische Straße\, Wuppertal\, Nordrhein-Westfalen\, 42285
CATEGORIES:Baseball
ATTACH;FMTTYPE=image/jpeg:https://www.sv-bayer.de/wp-content/uploads/2026/03/4.jpg
END:VEVENT
BEGIN:VEVENT
DTSTART;TZID=Europe/Berlin:20260704T130000
DTEND;TZID=Europe/Berlin:20260704T160000
DTSTAMP:20260419T210258
CREATED:20260330T084634Z
LAST-MODIFIED:20260330T084634Z
UID:45577-1783170000-1783180800@www.sv-bayer.de
SUMMARY:SV Bayer - Solinger TC 02
DESCRIPTION:1. Herren Niederrheinliga – Sommersaison
URL:https://www.sv-bayer.de/event/bayer-solingertc/
LOCATION:Tennisanlage SV Bayer\, Aprather Weg 48\, Wuppertal\, Nordrhein-Westfalen\, 42113
CATEGORIES:Tennis
ATTACH;FMTTYPE=image/jpeg:https://www.sv-bayer.de/wp-content/uploads/2023/06/bergische-meisterschaft-2023-01.jpg
END:VEVENT
BEGIN:VEVENT
DTSTART;TZID=Europe/Berlin:20260718T120000
DTEND;TZID=Europe/Berlin:20260718T153000
DTSTAMP:20260419T210258
CREATED:20260325T085059Z
LAST-MODIFIED:20260325T085059Z
UID:45404-1784376000-1784388600@www.sv-bayer.de
SUMMARY:Stingrays - Solingen
DESCRIPTION:Baseball Herren 2. Bundesliga
URL:https://www.sv-bayer.de/event/stingrays-solingen/
LOCATION:Wuppertal Stingrays Ballpark\, Oberbergische Straße\, Wuppertal\, Nordrhein-Westfalen\, 42285
CATEGORIES:Baseball
ATTACH;FMTTYPE=image/jpeg:https://www.sv-bayer.de/wp-content/uploads/2026/03/6-scaled.jpg
END:VEVENT
BEGIN:VEVENT
DTSTART;VALUE=DATE:20260727
DTEND;VALUE=DATE:20260803
DTSTAMP:20260419T210258
CREATED:20240409T070045Z
LAST-MODIFIED:20260121T113011Z
UID:39008-1785110400-1785715199@www.sv-bayer.de
SUMMARY:Ambrogio Cup & Stelzenegger Open
DESCRIPTION:
URL:https://www.sv-bayer.de/event/ambrogio-cup-stelzenegger-open-2024/
LOCATION:Tennisanlage SV Bayer\, Aprather Weg 48\, Wuppertal\, Nordrhein-Westfalen\, 42113
CATEGORIES:Tennis
ATTACH;FMTTYPE=image/jpeg:https://www.sv-bayer.de/wp-content/uploads/2023/05/TennisGruen-scaled.jpg
END:VEVENT
BEGIN:VEVENT
DTSTART;VALUE=DATE:20260819
DTEND;VALUE=DATE:20260824
DTSTAMP:20260419T210258
CREATED:20230427T133124Z
LAST-MODIFIED:20260121T112927Z
UID:33505-1787097600-1787529599@www.sv-bayer.de
SUMMARY:Certoplast Open
DESCRIPTION:
URL:https://www.sv-bayer.de/event/certoplast-open-2023/
LOCATION:Tennisanlage SV Bayer\, Aprather Weg 48\, Wuppertal\, Nordrhein-Westfalen\, 42113
CATEGORIES:Tennis
END:VEVENT
BEGIN:VEVENT
DTSTART;VALUE=DATE:20260901
DTEND;VALUE=DATE:20260902
DTSTAMP:20260419T210258
CREATED:20260121T082811Z
LAST-MODIFIED:20260312T081845Z
UID:44745-1788220800-1788307199@www.sv-bayer.de
SUMMARY:Team Walk
DESCRIPTION:Warum beim Team Walk Wuppertal mitmachen?\n\n\nGesund & motivierend: 9 km gemeinsames Wandern nach Feierabend – ideal für jedes Fitnesslevel. \n\n\nTeambuilding live: Alle können dabei sein! Gemeinsam aktiv und abteilungsübergreifend in Bewegung kommen. \n\n\nSichtbarkeit & Employer Branding: Positioniert euer Unternehmen als aktiven und mitarbeiterorientierten Arbeitgeber. \n\n\nAlles organisiert: Stimmungsstationen\, Verpﬂegung\, Finisher-Medaille und After-Walk-Party
URL:https://www.sv-bayer.de/event/team-walk/
LOCATION:Bayer-Sportpark\, Unten Vorm Steeg 5\, Wuppertal\, Nordrhein-Westfalen\, 42329
CATEGORIES:Hauptverein
ATTACH;FMTTYPE=image/jpeg:https://www.sv-bayer.de/wp-content/uploads/2026/02/TEAMWALK_BOCHUM_2025_IMRESSIONEN_OHNELOGO_WEBSIZE_109.jpg
END:VEVENT
BEGIN:VEVENT
DTSTART;VALUE=DATE:20260919
DTEND;VALUE=DATE:20260920
DTSTAMP:20260419T210258
CREATED:20241126T131111Z
LAST-MODIFIED:20251125T113550Z
UID:40659-1789776000-1789862399@www.sv-bayer.de
SUMMARY:Wuppertaler Volkslauf
DESCRIPTION:
URL:https://www.sv-bayer.de/event/wuppertaler-volkslauf-3/
LOCATION:Bayer-Sportpark\, Unten Vorm Steeg 5\, Wuppertal\, Nordrhein-Westfalen\, 42329
CATEGORIES:Hauptverein
ATTACH;FMTTYPE=image/jpeg:https://www.sv-bayer.de/wp-content/uploads/2024/11/DSC09365-scaled.jpg
END:VEVENT
BEGIN:VEVENT
DTSTART;VALUE=DATE:20260925
DTEND;VALUE=DATE:20260928
DTSTAMP:20260419T210258
CREATED:20240424T093709Z
LAST-MODIFIED:20251125T113517Z
UID:39144-1790294400-1790553599@www.sv-bayer.de
SUMMARY:OPERA Swim Classics
DESCRIPTION:
URL:https://www.sv-bayer.de/event/opera-swim-classics-2/
LOCATION:Wuppertaler Schwimmoper\, Südstraße 29\, Wuppertal\, Nordrhein-Westfalen\, 42103
CATEGORIES:Schwimmen
ATTACH;FMTTYPE=image/png:https://www.sv-bayer.de/wp-content/uploads/2017/12/slider.png
END:VEVENT
BEGIN:VEVENT
DTSTART;VALUE=DATE:20261010
DTEND;VALUE=DATE:20261011
DTSTAMP:20260419T210258
CREATED:20260325T104519Z
LAST-MODIFIED:20260325T104719Z
UID:45417-1791590400-1791676799@www.sv-bayer.de
SUMMARY:Turnen und Trödeln XXL
DESCRIPTION:
URL:https://www.sv-bayer.de/event/turnen-und-troedeln-xxl/
LOCATION:Bayerhalle\, Unten Vorm Steeg 1\, Wuppertal\, Nordrhein-Westfalen\, 42329\, Deutschland
CATEGORIES:KiJu
ATTACH;FMTTYPE=image/jpeg:https://www.sv-bayer.de/wp-content/uploads/2020/06/Turnhallentrödel_495x400px-e1774435632549.jpg
END:VEVENT
BEGIN:VEVENT
DTSTART;VALUE=DATE:20261031
DTEND;VALUE=DATE:20261102
DTSTAMP:20260419T210258
CREATED:20260112T144406Z
LAST-MODIFIED:20260115T082303Z
UID:44667-1793404800-1793577599@www.sv-bayer.de
SUMMARY:NRW Kurzbahn
DESCRIPTION:
URL:https://www.sv-bayer.de/event/nrw-kurzbahn/
LOCATION:Wuppertaler Schwimmoper\, Südstraße 29\, Wuppertal\, Nordrhein-Westfalen\, 42103
CATEGORIES:Schwimmen
ATTACH;FMTTYPE=image/jpeg:https://www.sv-bayer.de/wp-content/uploads/2026/01/5.jpg
END:VEVENT
BEGIN:VEVENT
DTSTART;VALUE=DATE:20261112
DTEND;VALUE=DATE:20261116
DTSTAMP:20260419T210258
CREATED:20240424T094859Z
LAST-MODIFIED:20251125T113451Z
UID:39155-1794441600-1794787199@www.sv-bayer.de
SUMMARY:Deutsche Kurzbahnmeisterschaften
DESCRIPTION:
URL:https://www.sv-bayer.de/event/deutsche-kurzbahnmeisterschaften-2024/
LOCATION:Wuppertaler Schwimmoper\, Südstraße 29\, Wuppertal\, Nordrhein-Westfalen\, 42103
CATEGORIES:Schwimmen
ATTACH;FMTTYPE=image/jpeg:https://www.sv-bayer.de/wp-content/uploads/2022/09/chad-le-clos-scaled.jpg
END:VEVENT
BEGIN:VEVENT
DTSTART;TZID=Europe/Berlin:20261206T150000
DTEND;TZID=Europe/Berlin:20261206T180000
DTSTAMP:20260419T210258
CREATED:20241126T125915Z
LAST-MODIFIED:20260324T110427Z
UID:40640-1796569200-1796580000@www.sv-bayer.de
SUMMARY:KiJu Weihnachtszauber
DESCRIPTION:
URL:https://www.sv-bayer.de/event/kiju-weihnachtszauber/
LOCATION:Bayerhalle\, Unten Vorm Steeg 1\, Wuppertal\, Nordrhein-Westfalen\, 42329\, Deutschland
CATEGORIES:KiJu
ATTACH;FMTTYPE=image/jpeg:https://www.sv-bayer.de/wp-content/uploads/2024/11/WhatsApp-Image-2026-03-24-at-12.00.42-scaled-e1774350257563.jpeg
END:VEVENT
END:VCALENDAR