BEGIN:VCALENDAR
VERSION:2.0
PRODID:-//sv-bayer.de - ECPv6.15.20//NONSGML v1.0//EN
CALSCALE:GREGORIAN
METHOD:PUBLISH
X-WR-CALNAME:sv-bayer.de
X-ORIGINAL-URL:https://www.sv-bayer.de
X-WR-CALDESC:Veranstaltungen für sv-bayer.de
REFRESH-INTERVAL;VALUE=DURATION:PT1H
X-Robots-Tag:noindex
X-PUBLISHED-TTL:PT1H
BEGIN:VTIMEZONE
TZID:Europe/Berlin
BEGIN:DAYLIGHT
TZOFFSETFROM:+0100
TZOFFSETTO:+0200
TZNAME:CEST
DTSTART:20230326T010000
END:DAYLIGHT
BEGIN:STANDARD
TZOFFSETFROM:+0200
TZOFFSETTO:+0100
TZNAME:CET
DTSTART:20231029T010000
END:STANDARD
BEGIN:DAYLIGHT
TZOFFSETFROM:+0100
TZOFFSETTO:+0200
TZNAME:CEST
DTSTART:20240331T010000
END:DAYLIGHT
BEGIN:STANDARD
TZOFFSETFROM:+0200
TZOFFSETTO:+0100
TZNAME:CET
DTSTART:20241027T010000
END:STANDARD
BEGIN:DAYLIGHT
TZOFFSETFROM:+0100
TZOFFSETTO:+0200
TZNAME:CEST
DTSTART:20250330T010000
END:DAYLIGHT
BEGIN:STANDARD
TZOFFSETFROM:+0200
TZOFFSETTO:+0100
TZNAME:CET
DTSTART:20251026T010000
END:STANDARD
END:VTIMEZONE
BEGIN:VEVENT
DTSTART;TZID=Europe/Berlin:20240310T153000
DTEND;TZID=Europe/Berlin:20240310T171500
DTSTAMP:20260420T083102
CREATED:20230801T135444Z
LAST-MODIFIED:20230801T140334Z
UID:35237-1710084600-1710090900@www.sv-bayer.de
SUMMARY:SV Bayer Wuppertal - Langenberger SV
DESCRIPTION:Herren Fußball – Kreisliga A
URL:https://www.sv-bayer.de/event/sv-bayer-wuppertal-langenberger-sv/
LOCATION:Bayer-Sportpark\, Unten Vorm Steeg 5\, Wuppertal\, Nordrhein-Westfalen\, 42329
CATEGORIES:Fußball
END:VEVENT
BEGIN:VEVENT
DTSTART;TZID=Europe/Berlin:20240317T153000
DTEND;TZID=Europe/Berlin:20240317T171500
DTSTAMP:20260420T083102
CREATED:20230801T135537Z
LAST-MODIFIED:20230801T140321Z
UID:35240-1710689400-1710695700@www.sv-bayer.de
SUMMARY:SV Bayer Wuppertal - FC Mettmann 08
DESCRIPTION:Herren Fußball – Kreisliga A
URL:https://www.sv-bayer.de/event/sv-bayer-wuppertal-fc-mettmann-08/
LOCATION:Bayer-Sportpark\, Unten Vorm Steeg 5\, Wuppertal\, Nordrhein-Westfalen\, 42329
CATEGORIES:Fußball
END:VEVENT
BEGIN:VEVENT
DTSTART;TZID=Europe/Berlin:20240323T160000
DTEND;TZID=Europe/Berlin:20240323T180000
DTSTAMP:20260420T083102
CREATED:20230901T084150Z
LAST-MODIFIED:20230901T084150Z
UID:36080-1711209600-1711216800@www.sv-bayer.de
SUMMARY:SV Bayer Wuppertal - Werdener TB
DESCRIPTION:1. Damen Volleyball – Verbandsliga
URL:https://www.sv-bayer.de/event/sv-bayer-wuppertal-werdener-tb/
LOCATION:Bayerhalle\, Unten Vorm Steeg 1\, Wuppertal\, Nordrhein-Westfalen\, 42329\, Deutschland
CATEGORIES:Volleyball
ATTACH;FMTTYPE=image/jpeg:https://www.sv-bayer.de/wp-content/uploads/Volleyball/ball-1930191_1920.jpg
END:VEVENT
BEGIN:VEVENT
DTSTART;TZID=Europe/Berlin:20240323T160000
DTEND;TZID=Europe/Berlin:20240323T190000
DTSTAMP:20260420T083102
CREATED:20230901T083112Z
LAST-MODIFIED:20230901T083112Z
UID:36056-1711209600-1711220400@www.sv-bayer.de
SUMMARY:SV Bayer Wuppertal II - VV Humann Essen VI
DESCRIPTION:2. Herren Volleyball – Landesliga
URL:https://www.sv-bayer.de/event/sv-bayer-wuppertal-ii-vv-humann-essen-vi/
LOCATION:Bayerhalle\, Unten Vorm Steeg 1\, Wuppertal\, Nordrhein-Westfalen\, 42329\, Deutschland
CATEGORIES:Volleyball
END:VEVENT
BEGIN:VEVENT
DTSTART;TZID=Europe/Berlin:20240323T190000
DTEND;TZID=Europe/Berlin:20240323T210000
DTSTAMP:20260420T083102
CREATED:20230901T082634Z
LAST-MODIFIED:20230901T082634Z
UID:36042-1711220400-1711227600@www.sv-bayer.de
SUMMARY:SV Bayer Wuppertal - ART Düsseldorf
DESCRIPTION:1. Herren Volleyball – Oberliga
URL:https://www.sv-bayer.de/event/sv-bayer-wuppertal-art-duesseldorf/
LOCATION:Bayerhalle\, Unten Vorm Steeg 1\, Wuppertal\, Nordrhein-Westfalen\, 42329\, Deutschland
CATEGORIES:Volleyball
ATTACH;FMTTYPE=image/jpeg:https://www.sv-bayer.de/wp-content/uploads/2023/09/Galerie_Berlin_Recy_17_220872_58b45a551.jpg
END:VEVENT
BEGIN:VEVENT
DTSTART;TZID=Europe/Berlin:20240328T183000
DTEND;TZID=Europe/Berlin:20240328T201500
DTSTAMP:20260420T083102
CREATED:20230801T135729Z
LAST-MODIFIED:20230801T140300Z
UID:35243-1711650600-1711656900@www.sv-bayer.de
SUMMARY:SV Bayer Wuppertal - TSV Union Wuppertal
DESCRIPTION:Herren Fußball – Kreisliga A
URL:https://www.sv-bayer.de/event/sv-bayer-wuppertal-tsv-union-wuppertal/
LOCATION:Bayer-Sportpark\, Unten Vorm Steeg 5\, Wuppertal\, Nordrhein-Westfalen\, 42329
CATEGORIES:Fußball
END:VEVENT
END:VCALENDAR