BEGIN:VCALENDAR
VERSION:2.0
PRODID:-//sv-bayer.de - ECPv6.15.20//NONSGML v1.0//EN
CALSCALE:GREGORIAN
METHOD:PUBLISH
X-WR-CALNAME:sv-bayer.de
X-ORIGINAL-URL:https://www.sv-bayer.de
X-WR-CALDESC:Veranstaltungen für sv-bayer.de
REFRESH-INTERVAL;VALUE=DURATION:PT1H
X-Robots-Tag:noindex
X-PUBLISHED-TTL:PT1H
BEGIN:VTIMEZONE
TZID:Europe/Berlin
BEGIN:DAYLIGHT
TZOFFSETFROM:+0100
TZOFFSETTO:+0200
TZNAME:CEST
DTSTART:20230326T010000
END:DAYLIGHT
BEGIN:STANDARD
TZOFFSETFROM:+0200
TZOFFSETTO:+0100
TZNAME:CET
DTSTART:20231029T010000
END:STANDARD
BEGIN:DAYLIGHT
TZOFFSETFROM:+0100
TZOFFSETTO:+0200
TZNAME:CEST
DTSTART:20240331T010000
END:DAYLIGHT
BEGIN:STANDARD
TZOFFSETFROM:+0200
TZOFFSETTO:+0100
TZNAME:CET
DTSTART:20241027T010000
END:STANDARD
BEGIN:DAYLIGHT
TZOFFSETFROM:+0100
TZOFFSETTO:+0200
TZNAME:CEST
DTSTART:20250330T010000
END:DAYLIGHT
BEGIN:STANDARD
TZOFFSETFROM:+0200
TZOFFSETTO:+0100
TZNAME:CET
DTSTART:20251026T010000
END:STANDARD
END:VTIMEZONE
BEGIN:VEVENT
DTSTART;TZID=Europe/Berlin:20240602T153000
DTEND;TZID=Europe/Berlin:20240602T171500
DTSTAMP:20260424T120305
CREATED:20230801T140711Z
LAST-MODIFIED:20230801T140805Z
UID:35265-1717342200-1717348500@www.sv-bayer.de
SUMMARY:SV Bayer Wuppertal - Breite Burschen Barmen
DESCRIPTION:Herren Fußball – Kreisliga A
URL:https://www.sv-bayer.de/event/sv-bayer-wuppertal-breite-burschen-barmen/
LOCATION:Bayer-Sportpark\, Unten Vorm Steeg 5\, Wuppertal\, Nordrhein-Westfalen\, 42329
CATEGORIES:Fußball
END:VEVENT
BEGIN:VEVENT
DTSTART;TZID=Europe/Berlin:20240609T130000
DTEND;TZID=Europe/Berlin:20240609T173000
DTSTAMP:20260424T120305
CREATED:20240422T094544Z
LAST-MODIFIED:20240422T094721Z
UID:39096-1717938000-1717954200@www.sv-bayer.de
SUMMARY:Stingrays - Dortmund Wanderers 2
DESCRIPTION:Baseball Herren NRW Liga – 2024
URL:https://www.sv-bayer.de/event/stingrays-dortmund-wanderers-2/
LOCATION:Wuppertal Stingrays Ballpark\, Oberbergische Straße\, Wuppertal\, Nordrhein-Westfalen\, 42285
CATEGORIES:Baseball
ATTACH;FMTTYPE=image/webp:https://www.sv-bayer.de/wp-content/uploads/2023/05/22-04-23-herren-stingrays-vs-wanderers-03.webp
END:VEVENT
BEGIN:VEVENT
DTSTART;VALUE=DATE:20240629
DTEND;VALUE=DATE:20240630
DTSTAMP:20260424T120305
CREATED:20240327T080815Z
LAST-MODIFIED:20240327T080815Z
UID:38890-1719619200-1719705599@www.sv-bayer.de
SUMMARY:Rheinschwimmen
DESCRIPTION:Sporttauchen – Kontakte
URL:https://www.sv-bayer.de/event/rheinschwimmen/
LOCATION:Nordrhein-Westfalen
CATEGORIES:Sporttauchen
END:VEVENT
END:VCALENDAR