BEGIN:VCALENDAR
VERSION:2.0
PRODID:-//sv-bayer.de - ECPv6.15.20//NONSGML v1.0//EN
CALSCALE:GREGORIAN
METHOD:PUBLISH
X-ORIGINAL-URL:https://www.sv-bayer.de
X-WR-CALDESC:Veranstaltungen für sv-bayer.de
REFRESH-INTERVAL;VALUE=DURATION:PT1H
X-Robots-Tag:noindex
X-PUBLISHED-TTL:PT1H
BEGIN:VTIMEZONE
TZID:Europe/Berlin
BEGIN:DAYLIGHT
TZOFFSETFROM:+0100
TZOFFSETTO:+0200
TZNAME:CEST
DTSTART:20230326T010000
END:DAYLIGHT
BEGIN:STANDARD
TZOFFSETFROM:+0200
TZOFFSETTO:+0100
TZNAME:CET
DTSTART:20231029T010000
END:STANDARD
BEGIN:DAYLIGHT
TZOFFSETFROM:+0100
TZOFFSETTO:+0200
TZNAME:CEST
DTSTART:20240331T010000
END:DAYLIGHT
BEGIN:STANDARD
TZOFFSETFROM:+0200
TZOFFSETTO:+0100
TZNAME:CET
DTSTART:20241027T010000
END:STANDARD
BEGIN:DAYLIGHT
TZOFFSETFROM:+0100
TZOFFSETTO:+0200
TZNAME:CEST
DTSTART:20250330T010000
END:DAYLIGHT
BEGIN:STANDARD
TZOFFSETFROM:+0200
TZOFFSETTO:+0100
TZNAME:CET
DTSTART:20251026T010000
END:STANDARD
END:VTIMEZONE
BEGIN:VEVENT
DTSTART;VALUE=DATE:20240830
DTEND;VALUE=DATE:20240902
DTSTAMP:20260424T165527
CREATED:20240327T081143Z
LAST-MODIFIED:20240327T081601Z
UID:38896-1724976000-1725235199@www.sv-bayer.de
SUMMARY:Landesjugendtreffen - Sporttauchen
DESCRIPTION:Sporttauchen – Kontakte
URL:https://www.sv-bayer.de/event/landesjugendtreffen-sporttauchen/
LOCATION:Möhnesee\, Möhnesee\, Nordrhein-Westfalen\, 59519\, Deutschland
CATEGORIES:Sporttauchen
END:VEVENT
BEGIN:VEVENT
DTSTART;TZID=Europe/Berlin:20240901T130000
DTEND;TZID=Europe/Berlin:20240901T173000
DTSTAMP:20260424T165527
CREATED:20240422T095338Z
LAST-MODIFIED:20240422T095431Z
UID:39115-1725195600-1725211800@www.sv-bayer.de
SUMMARY:Stingrays - Düsseldorf Senators
DESCRIPTION:Baseball Herren NRW Liga – 2024
URL:https://www.sv-bayer.de/event/stingrays-duesseldorf-senators-2/
LOCATION:Wuppertal Stingrays Ballpark\, Oberbergische Straße\, Wuppertal\, Nordrhein-Westfalen\, 42285
CATEGORIES:Baseball
ATTACH;FMTTYPE=image/webp:https://www.sv-bayer.de/wp-content/uploads/2023/05/22-04-23-herren-stingrays-vs-wanderers-03.webp
END:VEVENT
BEGIN:VEVENT
DTSTART;VALUE=DATE:20240907
DTEND;VALUE=DATE:20240908
DTSTAMP:20260424T165527
CREATED:20240326T110557Z
LAST-MODIFIED:20240326T110557Z
UID:38883-1725667200-1725753599@www.sv-bayer.de
SUMMARY:Wuppertaler Volkslauf 2024
DESCRIPTION:
URL:https://www.sv-bayer.de/event/wuppertaler-volkslauf-2/
LOCATION:Bayer-Sportpark\, Unten Vorm Steeg 5\, Wuppertal\, Nordrhein-Westfalen\, 42329
CATEGORIES:Hauptverein,KiJu
ATTACH;FMTTYPE=image/jpeg:https://www.sv-bayer.de/wp-content/uploads/2023/05/DSC0502-min-1.jpg
END:VEVENT
END:VCALENDAR